Package: QDNAseq.hg19 Version: 1.39.0 Command: /home/biocbuild/bbs-3.22-bioc/R/bin/R CMD build --keep-empty-dirs --no-resave-data QDNAseq.hg19 StartedAt: 2025-07-08 11:36:12 -0400 (Tue, 08 Jul 2025) EndedAt: 2025-07-08 11:36:15 -0400 (Tue, 08 Jul 2025) EllapsedTime: 3.4 seconds RetCode: 0 Status: OK PackageFile: QDNAseq.hg19_1.39.0.tar.gz PackageFileSize: 35.26 MiB