Package: QDNAseq.mm10 Version: 1.39.0 Maintainer: Daoud Sie MaintainerEmail: d.sie at vumc.nl git_url: https://git.bioconductor.org/packages/QDNAseq.mm10 git_branch: devel git_last_commit: 3311671 git_last_commit_date: 2025-04-15 10:03:54 -0400 (Tue, 15 Apr 2025)