Package: QDNAseq.mm10 Version: 1.41.0 Command: /home/biocbuild/bbs-3.23-bioc/R/bin/R CMD INSTALL QDNAseq.mm10 StartedAt: 2025-11-04 11:02:44 -0500 (Tue, 04 Nov 2025) EndedAt: 2025-11-04 11:02:57 -0500 (Tue, 04 Nov 2025) EllapsedTime: 12.4 seconds RetCode: 0 Status: OK