Package: QDNAseq.mm10 Version: 1.39.0 Command: /home/biocbuild/bbs-3.22-bioc/R/bin/R CMD build --keep-empty-dirs --no-resave-data QDNAseq.mm10 StartedAt: 2025-07-08 11:36:14 -0400 (Tue, 08 Jul 2025) EndedAt: 2025-07-08 11:36:17 -0400 (Tue, 08 Jul 2025) EllapsedTime: 3.3 seconds RetCode: 0 Status: OK PackageFile: QDNAseq.mm10_1.39.0.tar.gz PackageFileSize: 31.18 MiB