Package: QUBICdata Version: 1.37.0 Command: /home/biocbuild/bbs-3.22-bioc/R/bin/R CMD build --keep-empty-dirs --no-resave-data QUBICdata StartedAt: 2025-07-10 11:37:29 -0400 (Thu, 10 Jul 2025) EndedAt: 2025-07-10 11:37:35 -0400 (Thu, 10 Jul 2025) EllapsedTime: 6.0 seconds RetCode: 0 Status: OK PackageFile: QUBICdata_1.37.0.tar.gz PackageFileSize: 9.848 MiB