Package: RGMQLlib Version: 1.29.0 Command: /home/biocbuild/bbs-3.22-bioc/R/bin/R CMD check --install=check:RGMQLlib.install-out.txt --library=/home/biocbuild/bbs-3.22-bioc/R/site-library --timings RGMQLlib_1.29.0.tar.gz StartedAt: 2025-07-10 12:53:56 -0400 (Thu, 10 Jul 2025) EndedAt: 2025-07-10 12:54:15 -0400 (Thu, 10 Jul 2025) EllapsedTime: 18.6 seconds RetCode: 0 Status: OK CheckDir: RGMQLlib.Rcheck Warnings: 0