Package: RGMQLlib Version: 1.29.0 Command: /home/biocbuild/bbs-3.22-bioc/R/bin/R CMD INSTALL RGMQLlib StartedAt: 2025-07-08 10:55:22 -0400 (Tue, 08 Jul 2025) EndedAt: 2025-07-08 10:55:25 -0400 (Tue, 08 Jul 2025) EllapsedTime: 2.1 seconds RetCode: 0 Status: OK