Package: RMassBankData Version: 1.47.0 Command: /home/biocbuild/bbs-3.22-bioc/R/bin/R CMD build --keep-empty-dirs --no-resave-data RMassBankData StartedAt: 2025-07-10 11:38:37 -0400 (Thu, 10 Jul 2025) EndedAt: 2025-07-10 11:38:50 -0400 (Thu, 10 Jul 2025) EllapsedTime: 12.7 seconds RetCode: 0 Status: OK PackageFile: RMassBankData_1.47.0.tar.gz PackageFileSize: 51.54 MiB