Package: RNAmodR.Data Version: 1.23.0 Command: /home/biocbuild/bbs-3.22-bioc/R/bin/R CMD build --keep-empty-dirs --no-resave-data RNAmodR.Data StartedAt: 2025-07-10 11:38:42 -0400 (Thu, 10 Jul 2025) EndedAt: 2025-07-10 11:39:41 -0400 (Thu, 10 Jul 2025) EllapsedTime: 58.9 seconds RetCode: 0 Status: OK PackageFile: RNAmodR.Data_1.23.0.tar.gz PackageFileSize: 304.9 KiB