Package: RNAmodR.Data Version: 1.23.0 Command: /home/biocbuild/bbs-3.22-bioc/R/bin/R CMD INSTALL RNAmodR.Data StartedAt: 2025-07-10 11:03:46 -0400 (Thu, 10 Jul 2025) EndedAt: 2025-07-10 11:04:28 -0400 (Thu, 10 Jul 2025) EllapsedTime: 42.3 seconds RetCode: 0 Status: OK