Package: RNAseqData.HNRNPC.bam.chr14 Version: 0.49.0 Command: /home/biocbuild/bbs-3.23-bioc/R/bin/R CMD INSTALL RNAseqData.HNRNPC.bam.chr14 StartedAt: 2025-11-04 10:55:48 -0500 (Tue, 04 Nov 2025) EndedAt: 2025-11-04 10:55:55 -0500 (Tue, 04 Nov 2025) EllapsedTime: 6.7 seconds RetCode: 0 Status: OK