Package: RNAseqData.HNRNPC.bam.chr14 Version: 0.47.0 Command: /home/biocbuild/bbs-3.22-bioc/R/bin/R CMD build --keep-empty-dirs --no-resave-data RNAseqData.HNRNPC.bam.chr14 StartedAt: 2025-07-08 11:37:40 -0400 (Tue, 08 Jul 2025) EndedAt: 2025-07-08 11:38:25 -0400 (Tue, 08 Jul 2025) EllapsedTime: 45.1 seconds RetCode: 0 Status: OK PackageFile: RNAseqData.HNRNPC.bam.chr14_0.47.0.tar.gz PackageFileSize: 332.5 MiB