Package: RNAseqData.HNRNPC.bam.chr14 Version: 0.47.0 Command: /home/biocbuild/bbs-3.22-bioc/R/bin/R CMD check --install=check:RNAseqData.HNRNPC.bam.chr14.install-out.txt --library=/home/biocbuild/bbs-3.22-bioc/R/site-library --timings RNAseqData.HNRNPC.bam.chr14_0.47.0.tar.gz StartedAt: 2025-07-10 12:54:30 -0400 (Thu, 10 Jul 2025) EndedAt: 2025-07-10 12:55:13 -0400 (Thu, 10 Jul 2025) EllapsedTime: 43.0 seconds RetCode: 0 Status: OK CheckDir: RNAseqData.HNRNPC.bam.chr14.Rcheck Warnings: 0