Package: RNAseqData.HNRNPC.bam.chr14 Version: 0.47.0 Command: /home/biocbuild/bbs-3.22-bioc/R/bin/R CMD INSTALL RNAseqData.HNRNPC.bam.chr14 StartedAt: 2025-07-08 10:55:52 -0400 (Tue, 08 Jul 2025) EndedAt: 2025-07-08 10:55:55 -0400 (Tue, 08 Jul 2025) EllapsedTime: 2.9 seconds RetCode: 0 Status: OK