Package: RRBSdata Version: 1.29.0 Command: /home/biocbuild/bbs-3.22-bioc/R/bin/R CMD INSTALL RRBSdata StartedAt: 2025-07-10 11:01:08 -0400 (Thu, 10 Jul 2025) EndedAt: 2025-07-10 11:01:32 -0400 (Thu, 10 Jul 2025) EllapsedTime: 24.1 seconds RetCode: 0 Status: OK