Package: RTCGA.CNV Version: 1.39.0 Command: /home/biocbuild/bbs-3.23-bioc/R/bin/R CMD build --keep-empty-dirs --no-resave-data RTCGA.CNV StartedAt: 2025-11-04 11:39:48 -0500 (Tue, 04 Nov 2025) EndedAt: 2025-11-04 11:40:10 -0500 (Tue, 04 Nov 2025) EllapsedTime: 21.7 seconds RetCode: 0 Status: OK PackageFile: RTCGA.CNV_1.39.0.tar.gz PackageFileSize: 27.37 MiB