Package: RTCGA.CNV Version: 1.37.0 Command: /home/biocbuild/bbs-3.22-bioc/R/bin/R CMD INSTALL RTCGA.CNV StartedAt: 2025-07-08 11:04:06 -0400 (Tue, 08 Jul 2025) EndedAt: 2025-07-08 11:04:23 -0400 (Tue, 08 Jul 2025) EllapsedTime: 16.7 seconds RetCode: 0 Status: OK