Package: RTCGA.PANCAN12 Version: 1.39.0 Command: /home/biocbuild/bbs-3.23-bioc/R/bin/R CMD INSTALL RTCGA.PANCAN12 StartedAt: 2025-11-04 11:04:20 -0500 (Tue, 04 Nov 2025) EndedAt: 2025-11-04 11:04:30 -0500 (Tue, 04 Nov 2025) EllapsedTime: 10.0 seconds RetCode: 0 Status: OK