Package: RTCGA.PANCAN12 Version: 1.37.0 Command: /home/biocbuild/bbs-3.22-bioc/R/bin/R CMD build --keep-empty-dirs --no-resave-data RTCGA.PANCAN12 StartedAt: 2025-07-08 11:38:54 -0400 (Tue, 08 Jul 2025) EndedAt: 2025-07-08 11:39:17 -0400 (Tue, 08 Jul 2025) EllapsedTime: 23.3 seconds RetCode: 0 Status: OK PackageFile: RTCGA.PANCAN12_1.37.0.tar.gz PackageFileSize: 213.9 MiB