Package: RTCGA.RPPA Version: 1.39.0 Command: /home/biocbuild/bbs-3.23-bioc/R/bin/R CMD INSTALL RTCGA.RPPA StartedAt: 2025-10-30 11:03:56 -0400 (Thu, 30 Oct 2025) EndedAt: 2025-10-30 11:04:08 -0400 (Thu, 30 Oct 2025) EllapsedTime: 12.2 seconds RetCode: 0 Status: OK