Package: RTCGA.RPPA Version: 1.37.0 Command: /home/biocbuild/bbs-3.22-bioc/R/bin/R CMD build --keep-empty-dirs --no-resave-data RTCGA.RPPA StartedAt: 2025-07-08 11:39:18 -0400 (Tue, 08 Jul 2025) EndedAt: 2025-07-08 11:39:34 -0400 (Tue, 08 Jul 2025) EllapsedTime: 15.7 seconds RetCode: 0 Status: OK PackageFile: RTCGA.RPPA_1.37.0.tar.gz PackageFileSize: 13.09 MiB