Package: RTCGA.RPPA Version: 1.37.0 Command: /home/biocbuild/bbs-3.22-bioc/R/bin/R CMD INSTALL RTCGA.RPPA StartedAt: 2025-07-08 11:04:15 -0400 (Tue, 08 Jul 2025) EndedAt: 2025-07-08 11:04:27 -0400 (Tue, 08 Jul 2025) EllapsedTime: 11.3 seconds RetCode: 0 Status: OK