Package: RTCGA.clinical Version: 20151101.39.0 Command: /home/biocbuild/bbs-3.22-bioc/R/bin/R CMD INSTALL RTCGA.clinical StartedAt: 2025-07-08 11:04:11 -0400 (Tue, 08 Jul 2025) EndedAt: 2025-07-08 11:04:53 -0400 (Tue, 08 Jul 2025) EllapsedTime: 41.2 seconds RetCode: 0 Status: OK