Package: RTCGA.mRNA Version: 1.39.0 Command: /home/biocbuild/bbs-3.23-bioc/R/bin/R CMD INSTALL RTCGA.mRNA StartedAt: 2025-11-04 11:04:29 -0500 (Tue, 04 Nov 2025) EndedAt: 2025-11-04 11:05:03 -0500 (Tue, 04 Nov 2025) EllapsedTime: 33.1 seconds RetCode: 0 Status: OK