Package: RTCGA.mRNA Version: 1.37.0 Command: /home/biocbuild/bbs-3.22-bioc/R/bin/R CMD check --install=check:RTCGA.mRNA.install-out.txt --library=/home/biocbuild/bbs-3.22-bioc/R/site-library --timings RTCGA.mRNA_1.37.0.tar.gz StartedAt: 2025-07-15 12:56:28 -0400 (Tue, 15 Jul 2025) EndedAt: 2025-07-15 12:58:01 -0400 (Tue, 15 Jul 2025) EllapsedTime: 93.0 seconds RetCode: 0 Status: WARNINGS CheckDir: RTCGA.mRNA.Rcheck Warnings: 1