Package: RTCGA.mRNA Version: 1.37.0 Command: /home/biocbuild/bbs-3.22-bioc/R/bin/R CMD INSTALL RTCGA.mRNA StartedAt: 2025-07-08 11:04:12 -0400 (Tue, 08 Jul 2025) EndedAt: 2025-07-08 11:04:44 -0400 (Tue, 08 Jul 2025) EllapsedTime: 32.7 seconds RetCode: 0 Status: OK