Package: RTCGA.methylation Version: 1.37.0 Maintainer: Marcin Kosinski MaintainerEmail: m.p.kosinski at gmail.com git_url: https://git.bioconductor.org/packages/RTCGA.methylation git_branch: devel git_last_commit: a69349b git_last_commit_date: 2025-04-15 10:04:45 -0400 (Tue, 15 Apr 2025)