Package: RTCGA.methylation Version: 1.39.0 Command: /home/biocbuild/bbs-3.23-bioc/R/bin/R CMD INSTALL RTCGA.methylation StartedAt: 2025-11-04 11:04:19 -0500 (Tue, 04 Nov 2025) EndedAt: 2025-11-04 11:06:49 -0500 (Tue, 04 Nov 2025) EllapsedTime: 150.8 seconds RetCode: 0 Status: OK