Package: RTCGA.methylation Version: 1.37.0 Command: /home/biocbuild/bbs-3.22-bioc/R/bin/R CMD build --keep-empty-dirs --no-resave-data RTCGA.methylation StartedAt: 2025-07-08 11:38:26 -0400 (Tue, 08 Jul 2025) EndedAt: 2025-07-08 11:41:39 -0400 (Tue, 08 Jul 2025) EllapsedTime: 192.8 seconds RetCode: 0 Status: OK PackageFile: RTCGA.methylation_1.37.0.tar.gz PackageFileSize: 622.8 MiB