Package: RTCGA.methylation Version: 1.37.0 Command: /home/biocbuild/bbs-3.22-bioc/R/bin/R CMD INSTALL RTCGA.methylation StartedAt: 2025-07-08 11:04:05 -0400 (Tue, 08 Jul 2025) EndedAt: 2025-07-08 11:06:36 -0400 (Tue, 08 Jul 2025) EllapsedTime: 150.8 seconds RetCode: 0 Status: OK