Package: RTCGA.miRNASeq Version: 1.39.0 Command: /home/biocbuild/bbs-3.23-bioc/R/bin/R CMD INSTALL RTCGA.miRNASeq StartedAt: 2025-11-06 11:04:02 -0500 (Thu, 06 Nov 2025) EndedAt: 2025-11-06 11:05:48 -0500 (Thu, 06 Nov 2025) EllapsedTime: 106.3 seconds RetCode: 0 Status: OK