Package: RTCGA.miRNASeq Version: 1.37.0 Command: /home/biocbuild/bbs-3.22-bioc/R/bin/R CMD INSTALL RTCGA.miRNASeq StartedAt: 2025-07-10 11:04:34 -0400 (Thu, 10 Jul 2025) EndedAt: 2025-07-10 11:06:26 -0400 (Thu, 10 Jul 2025) EllapsedTime: 112.0 seconds RetCode: 0 Status: OK