Package: RTCGA.mutations Version: 20151101.39.0 Command: /home/biocbuild/bbs-3.22-bioc/R/bin/R CMD build --keep-empty-dirs --no-resave-data RTCGA.mutations StartedAt: 2025-07-08 11:38:52 -0400 (Tue, 08 Jul 2025) EndedAt: 2025-07-08 11:42:20 -0400 (Tue, 08 Jul 2025) EllapsedTime: 208.2 seconds RetCode: 0 Status: OK PackageFile: RTCGA.mutations_20151101.39.0.tar.gz PackageFileSize: 103.8 MiB