Package: RTCGA.mutations Version: 20151101.39.0 Command: /home/biocbuild/bbs-3.22-bioc/R/bin/R CMD check --install=check:RTCGA.mutations.install-out.txt --library=/home/biocbuild/bbs-3.22-bioc/R/site-library --timings RTCGA.mutations_20151101.39.0.tar.gz StartedAt: 2025-07-15 12:56:31 -0400 (Tue, 15 Jul 2025) EndedAt: 2025-07-15 13:00:41 -0400 (Tue, 15 Jul 2025) EllapsedTime: 249.2 seconds RetCode: 0 Status: WARNINGS CheckDir: RTCGA.mutations.Rcheck Warnings: 1