Package: RTCGA.rnaseq Version: 20151101.39.0 Command: /home/biocbuild/bbs-3.22-bioc/R/bin/R CMD check --install=check:RTCGA.rnaseq.install-out.txt --library=/home/biocbuild/bbs-3.22-bioc/R/site-library --timings RTCGA.rnaseq_20151101.39.0.tar.gz StartedAt: 2025-07-10 12:58:52 -0400 (Thu, 10 Jul 2025) EndedAt: 2025-07-10 13:01:44 -0400 (Thu, 10 Jul 2025) EllapsedTime: 172.0 seconds RetCode: 0 Status: WARNINGS CheckDir: RTCGA.rnaseq.Rcheck Warnings: 1