Package: RTCGA.rnaseq Version: 20151101.39.0 Command: /home/biocbuild/bbs-3.22-bioc/R/bin/R CMD INSTALL RTCGA.rnaseq StartedAt: 2025-07-08 11:04:13 -0400 (Tue, 08 Jul 2025) EndedAt: 2025-07-08 11:06:56 -0400 (Tue, 08 Jul 2025) EllapsedTime: 163.0 seconds RetCode: 0 Status: OK