Package: RUVnormalizeData Version: 1.29.0 Command: /home/biocbuild/bbs-3.22-bioc/R/bin/R CMD check --install=check:RUVnormalizeData.install-out.txt --library=/home/biocbuild/bbs-3.22-bioc/R/site-library --timings RUVnormalizeData_1.29.0.tar.gz StartedAt: 2025-07-15 12:57:30 -0400 (Tue, 15 Jul 2025) EndedAt: 2025-07-15 12:57:56 -0400 (Tue, 15 Jul 2025) EllapsedTime: 26.0 seconds RetCode: 0 Status: OK CheckDir: RUVnormalizeData.Rcheck Warnings: 0