Package: RcisTarget.hg19.motifDBs.cisbpOnly.500bp Version: 1.31.0 Command: /home/biocbuild/bbs-3.23-bioc/R/bin/R CMD INSTALL RcisTarget.hg19.motifDBs.cisbpOnly.500bp StartedAt: 2025-10-30 10:56:11 -0400 (Thu, 30 Oct 2025) EndedAt: 2025-10-30 10:56:21 -0400 (Thu, 30 Oct 2025) EllapsedTime: 9.6 seconds RetCode: 0 Status: OK