Package: ReactomeGSA.data Version: 1.23.0 Command: /home/biocbuild/bbs-3.22-bioc/R/bin/R CMD INSTALL ReactomeGSA.data StartedAt: 2025-07-08 11:03:29 -0400 (Tue, 08 Jul 2025) EndedAt: 2025-07-08 11:03:47 -0400 (Tue, 08 Jul 2025) EllapsedTime: 18.3 seconds RetCode: 0 Status: OK