Package: RegParallel Version: 1.29.0 Command: /home/biocbuild/bbs-3.23-bioc/R/bin/R CMD build --keep-empty-dirs --no-resave-data RegParallel StartedAt: 2025-11-04 11:38:25 -0500 (Tue, 04 Nov 2025) EndedAt: 2025-11-04 11:45:06 -0500 (Tue, 04 Nov 2025) EllapsedTime: 401.7 seconds RetCode: 0 Status: OK PackageFile: RegParallel_1.29.0.tar.gz PackageFileSize: 643.6 KiB