Package: RegParallel Version: 1.29.0 Command: /home/biocbuild/bbs-3.23-bioc/R/bin/R CMD INSTALL RegParallel StartedAt: 2025-11-04 11:04:10 -0500 (Tue, 04 Nov 2025) EndedAt: 2025-11-04 11:04:18 -0500 (Tue, 04 Nov 2025) EllapsedTime: 8.5 seconds RetCode: 0 Status: OK