Package: RegParallel Version: 1.27.0 Command: /home/biocbuild/bbs-3.22-bioc/R/bin/R CMD build --keep-empty-dirs --no-resave-data RegParallel StartedAt: 2025-07-08 11:36:48 -0400 (Tue, 08 Jul 2025) EndedAt: 2025-07-08 11:43:40 -0400 (Tue, 08 Jul 2025) EllapsedTime: 412.1 seconds RetCode: 0 Status: OK PackageFile: RegParallel_1.27.0.tar.gz PackageFileSize: 634.4 KiB