Package: RegParallel Version: 1.27.0 Command: /home/biocbuild/bbs-3.22-bioc/R/bin/R CMD INSTALL RegParallel StartedAt: 2025-07-08 11:03:56 -0400 (Tue, 08 Jul 2025) EndedAt: 2025-07-08 11:04:05 -0400 (Tue, 08 Jul 2025) EllapsedTime: 8.7 seconds RetCode: 0 Status: OK