Package: RforProteomics Version: 1.47.0 Command: /home/biocbuild/bbs-3.22-bioc/R/bin/R CMD build --keep-empty-dirs --no-resave-data RforProteomics StartedAt: 2025-07-08 11:36:49 -0400 (Tue, 08 Jul 2025) EndedAt: 2025-07-08 11:43:01 -0400 (Tue, 08 Jul 2025) EllapsedTime: 372.6 seconds RetCode: 0 Status: OK PackageFile: RforProteomics_1.47.0.tar.gz PackageFileSize: 9.159 MiB