Package: RnBeads.hg19 Version: 1.43.0 Command: /home/biocbuild/bbs-3.23-bioc/R/bin/R CMD build --keep-empty-dirs --no-resave-data RnBeads.hg19 StartedAt: 2025-10-30 11:34:08 -0400 (Thu, 30 Oct 2025) EndedAt: 2025-10-30 11:34:15 -0400 (Thu, 30 Oct 2025) EllapsedTime: 7.0 seconds RetCode: 0 Status: OK PackageFile: RnBeads.hg19_1.43.0.tar.gz PackageFileSize: 100.1 MiB