Package: RnBeads.hg19 Version: 1.43.0 Command: /home/biocbuild/bbs-3.23-bioc/R/bin/R CMD INSTALL RnBeads.hg19 StartedAt: 2025-10-30 10:58:15 -0400 (Thu, 30 Oct 2025) EndedAt: 2025-10-30 10:58:22 -0400 (Thu, 30 Oct 2025) EllapsedTime: 6.9 seconds RetCode: 0 Status: OK