Package: RnBeads.hg38 Version: 1.43.0 Command: /home/biocbuild/bbs-3.23-bioc/R/bin/R CMD INSTALL RnBeads.hg38 StartedAt: 2025-11-06 10:58:07 -0500 (Thu, 06 Nov 2025) EndedAt: 2025-11-06 10:58:12 -0500 (Thu, 06 Nov 2025) EllapsedTime: 5.5 seconds RetCode: 0 Status: OK