Package: RnBeads.hg38 Version: 1.41.0 Command: /home/biocbuild/bbs-3.22-bioc/R/bin/R CMD build --keep-empty-dirs --no-resave-data RnBeads.hg38 StartedAt: 2025-07-10 11:39:05 -0400 (Thu, 10 Jul 2025) EndedAt: 2025-07-10 11:39:17 -0400 (Thu, 10 Jul 2025) EllapsedTime: 12.2 seconds RetCode: 0 Status: OK PackageFile: RnBeads.hg38_1.41.0.tar.gz PackageFileSize: 167.4 MiB