Package: RnBeads.hg38 Version: 1.41.0 Command: /home/biocbuild/bbs-3.22-bioc/R/bin/R CMD INSTALL RnBeads.hg38 StartedAt: 2025-07-10 10:58:01 -0400 (Thu, 10 Jul 2025) EndedAt: 2025-07-10 10:58:07 -0400 (Thu, 10 Jul 2025) EllapsedTime: 6.0 seconds RetCode: 0 Status: OK