Package: RnBeads.mm10 Version: 2.19.0 Command: /home/biocbuild/bbs-3.23-bioc/R/bin/R CMD INSTALL RnBeads.mm10 StartedAt: 2025-10-30 11:02:34 -0400 (Thu, 30 Oct 2025) EndedAt: 2025-10-30 11:02:42 -0400 (Thu, 30 Oct 2025) EllapsedTime: 7.2 seconds RetCode: 0 Status: OK